BEGIN:VCALENDAR
VERSION:2.0
PRODID:-//ExpressionEngine Easy iCalendar plugin//NONSGML v2.0.1//EN
X-WR-TIMEZONE:America/New_York
X-WR-CALNAME:Upcoming Auctions
BEGIN:VEVENT
UID:140481
DTSTAMP:20250621T100000
DTSTART:20250621T100000
DTEND:20250621T110000
SUMMARY:Back Country Online Only Public Auction- Overstock & Returns
  Saturday\, June 21st\, 2025 @ 10 a.m.
LOCATION:{location}
DESCRIPTION:Back Country Online Only Public Auction- Overstock & Returns
  Saturday\, June 21st\, 2025 @ 10 a.m. Back Country Online Pub
 lic Auction- Overstock & Returns from the Online Specialty R
 etailer of Premier Outdoor Gear and Clothing June 21\, 2025 @
  10 AM  Over 300 lots featuring: Shoes by On Cloud\, Adidas\,
  Hoka and Giro       Boots by Fox Racing\, Therabody and O
 n Coud jackets\, parkas\, pants\, shirts\, dresses and other out
 erwear from Patagonia\, Helly Hanson\, North Face\, Columbia\, O
 utdoor Research and Marmot goggles by Anon helmets by Smith 
 Vantage\, Troy Lee\, Fox\, and Met Manta snowboards and snowboa
 rd boots\, sleeping bags tents by Coleman\, Stoic\, Kelty\, Sier
 ra Designs\, and Snow Peak bikes\, bike racks\, bike carrying c
 ases\, and many other cycling accessories Garmin watch\, rearv
 iew radar and smart trainer  backpacks and carriers  paddl
 eboards Camping accessories and so much more! In person prev
 iew at Valley Auctions LLC\, 5351 Wilderness Road\, Dublin\, V
 A\, 9 am - 5 pm\, Monday - Friday or by appointment by calling
  540-674-4771. Pick up location 5351 Wilderness Road\, Dublin
 \, VA 24084. Shipping Available!  
URL:https://www.valleyauctionsllc.com/auctions/detail/bw140481
SEQUENCE:1
END:VEVENT
END:VCALENDAR