BEGIN:VCALENDAR
VERSION:2.0
PRODID:-//ExpressionEngine Easy iCalendar plugin//NONSGML v2.0.1//EN
X-WR-TIMEZONE:America/New_York
X-WR-CALNAME:Upcoming Auctions
BEGIN:VEVENT
UID:140482
DTSTAMP:20250628T100000
DTSTART:20250628T100000
DTEND:20250628T110000
SUMMARY:Online Only Multi Estate Public Auction June 28th\, 2025 @ 10
  a.m.
LOCATION:{location}
DESCRIPTION:Public Online  Only Multi-Estate Auction June 28th\, 2025 at
  10 a.m. Over 500 lots! HUGE VINTAGE & ANTIQUE ESTATE SALE a
 t 5351 Wilderness Road Dublin\, VA 24084 Precious Metals: Lar
 ge collection of sterling silver dining items\, 10 and 14-kar
 at jewelry pieces\, silver coins and jewelry\, and military me
 dals. Rarities: Trench Art\, German WWII Daggers\, Bayonets\, N
 azi banner\, Assay Medals\, Postcards\, Gold\, Cold War Propagan
 da posters and more Decor: Longaberger baskets\, signed fine 
 art\, rugs\, accent decor\, P.Buckley Moss\, Hagen-Renaker\, Pyre
 x\, Jadeite\, Stiffel Brass Lamps\, Architectural photos Antiqu
 es: Stain glass windows\, Johnny West doll\, militaria\, vintag
 e and antique Christmas\, model trains\, books\, linens\, quilts
 \, depression glass\, and more Furniture: Waterford of Lynchbu
 rg VA\, Henkel Harris\, pedal cars\, antique wardrobes\, corner 
 cabinets\, hall tree\, jelly cupboard\, barrister bookcases\, gr
 andfather clock\, and more!    In person preview at Valley 
 Auctions LLC\, 5351 Wilderness Road\, Dublin\, VA\, 9 am - 5 pm
 \, Monday - Friday or by appointment by calling 540-674-4771.
  Pick up location 5351 Wilderness Road\, Dublin\, VA 24084. Sh
 ipping Available!
URL:https://www.valleyauctionsllc.com/auctions/detail/bw140482
SEQUENCE:1
END:VEVENT
END:VCALENDAR