BEGIN:VCALENDAR
VERSION:2.0
PRODID:-//ExpressionEngine Easy iCalendar plugin//NONSGML v2.0.0//EN
X-WR-TIMEZONE:America/New_York
X-WR-CALNAME:Upcoming Auctions
BEGIN:VEVENT
UID:78114
DTSTAMP:20220409T100000
DTSTART:20220409T100000
DTEND:20220409T110000
SUMMARY:Online Only Absolute Estate Auction
LOCATION:5351 Wilderness Rd\, Dublin\, VA 24084\, US
DESCRIPTION:Featuring Items from a Rural Retreat Estate & Others Preview
 : Saturday\, March 26 from 9 am to 3 pm or by Appointment Pic
 kup: Monday through Thursday from 9 am to 3 pm or by Appoin
 tment Assistance is available for those who are unfamiliar w
 ith online bidding. Large collection of Post War Lionel trai
 ns many with boxes includes: 2383 Santa Fe ABA engines\, 58 G
 reat Northern snow plow with box\, 3 rare Marine Corps cars\, 
 many different 6464 box cars with boxes\, also accessories\, b
 oxes\, parts\, etc. Large Black Americana collection including
  advertising tins\, folk art\, lawn jockey\, etc\, 19th Century 
 tall case clock\, 18th Century tilt top table\, unusual Victor
 ian secretary\, oak side by side\, curio cabinets\, Great Road 
 stoneware flower pot\, Strasburg crock\, Edgefield ovoid stora
 ge crock\, over 20 different animal\, wolf and bear traps. . .
 all are different\, beer advertising\, Lance jars\, 5 cent cand
 y machine\, Midway Space Odyssey pinball machine\, vintage Cok
 e cooler\, P. Buckley Moss signed prints\, postcards\, coins\, b
 ox lots\, and much more! Bidding is available in real time us
 ing our app! Find us in your app store or go to valleyauctio
 nsllc.com Bidding will also be available through liveauction
 eers.com.  
URL:https://www.valleyauctionsllc.com/auctions/detail/bw78114
SEQUENCE:1
END:VEVENT
END:VCALENDAR